BEGIN:VCALENDAR
VERSION:2.0
PRODID:-//CASA of Yellowstone County | Serving kids in Foster Care | Court Appointed Special Advocates - ECPv6.15.20//NONSGML v1.0//EN
CALSCALE:GREGORIAN
METHOD:PUBLISH
X-ORIGINAL-URL:https://yellowstonecasa.org
X-WR-CALDESC:Events for CASA of Yellowstone County | Serving kids in Foster Care | Court Appointed Special Advocates
REFRESH-INTERVAL;VALUE=DURATION:PT1H
X-Robots-Tag:noindex
X-PUBLISHED-TTL:PT1H
BEGIN:VTIMEZONE
TZID:America/Denver
BEGIN:DAYLIGHT
TZOFFSETFROM:-0700
TZOFFSETTO:-0600
TZNAME:MDT
DTSTART:20230312T090000
END:DAYLIGHT
BEGIN:STANDARD
TZOFFSETFROM:-0600
TZOFFSETTO:-0700
TZNAME:MST
DTSTART:20231105T080000
END:STANDARD
BEGIN:DAYLIGHT
TZOFFSETFROM:-0700
TZOFFSETTO:-0600
TZNAME:MDT
DTSTART:20240310T090000
END:DAYLIGHT
BEGIN:STANDARD
TZOFFSETFROM:-0600
TZOFFSETTO:-0700
TZNAME:MST
DTSTART:20241103T080000
END:STANDARD
BEGIN:DAYLIGHT
TZOFFSETFROM:-0700
TZOFFSETTO:-0600
TZNAME:MDT
DTSTART:20250309T090000
END:DAYLIGHT
BEGIN:STANDARD
TZOFFSETFROM:-0600
TZOFFSETTO:-0700
TZNAME:MST
DTSTART:20251102T080000
END:STANDARD
END:VTIMEZONE
BEGIN:VEVENT
DTSTART;TZID=America/Denver:20240910T173000
DTEND;TZID=America/Denver:20240910T190000
DTSTAMP:20260422T032537
CREATED:20240826T174400Z
LAST-MODIFIED:20240826T180719Z
UID:801054-1725989400-1725994800@yellowstonecasa.org
SUMMARY:Meet\, Greet\, and Gab with the Guardians Ad Litem / ADVOCATES ONLY
DESCRIPTION:Training is for Active Advocates Only – If you’re interested in becoming a volunteer Advocate\, please attend one of our information sessions or email carrie@yellowstonecasa.org. \nThis unique event offers a special opportunity for Advocates and Guardians Ad Litem to come together in a Yellowstone County courtroom setting. The workshop is designed to foster connections\, share insights\, and enhance collaboration. Whether you’re new to advocacy or a seasoned professional\, this session provides valuable insights into the critical role of Guardians Ad Litem\, court protocol nuances\, and best practices for supporting children and families in legal proceedings. This training is in-person. \nPresenters: Emily Beard\, Juli Pierce\, and Kris Copenhaver \nTo register\, please email sherri@yellowstonecasa.org for a link to the event.
URL:https://yellowstonecasa.org/event/meet-greet-and-gab-with-the-guardians-ad-litem-advocates-only/
LOCATION:MT
END:VEVENT
END:VCALENDAR