BEGIN:VCALENDAR
VERSION:2.0
PRODID:-//CASA of Yellowstone County | Serving kids in Foster Care | Court Appointed Special Advocates - ECPv6.15.20//NONSGML v1.0//EN
CALSCALE:GREGORIAN
METHOD:PUBLISH
X-WR-CALNAME:CASA of Yellowstone County | Serving kids in Foster Care | Court Appointed Special Advocates
X-ORIGINAL-URL:https://yellowstonecasa.org
X-WR-CALDESC:Events for CASA of Yellowstone County | Serving kids in Foster Care | Court Appointed Special Advocates
REFRESH-INTERVAL;VALUE=DURATION:PT1H
X-Robots-Tag:noindex
X-PUBLISHED-TTL:PT1H
BEGIN:VTIMEZONE
TZID:America/Denver
BEGIN:DAYLIGHT
TZOFFSETFROM:-0700
TZOFFSETTO:-0600
TZNAME:MDT
DTSTART:20240310T090000
END:DAYLIGHT
BEGIN:STANDARD
TZOFFSETFROM:-0600
TZOFFSETTO:-0700
TZNAME:MST
DTSTART:20241103T080000
END:STANDARD
BEGIN:DAYLIGHT
TZOFFSETFROM:-0700
TZOFFSETTO:-0600
TZNAME:MDT
DTSTART:20250309T090000
END:DAYLIGHT
BEGIN:STANDARD
TZOFFSETFROM:-0600
TZOFFSETTO:-0700
TZNAME:MST
DTSTART:20251102T080000
END:STANDARD
BEGIN:DAYLIGHT
TZOFFSETFROM:-0700
TZOFFSETTO:-0600
TZNAME:MDT
DTSTART:20260308T090000
END:DAYLIGHT
BEGIN:STANDARD
TZOFFSETFROM:-0600
TZOFFSETTO:-0700
TZNAME:MST
DTSTART:20261101T080000
END:STANDARD
END:VTIMEZONE
BEGIN:VEVENT
DTSTART;VALUE=DATE:20250113
DTEND;VALUE=DATE:20250120
DTSTAMP:20260422T092147
CREATED:20241207T200618Z
LAST-MODIFIED:20241207T200618Z
UID:801282-1736726400-1737331199@yellowstonecasa.org
SUMMARY:New Advocate Training --- Pre-Service Starts
DESCRIPTION:Visit the volunteer page on our website and sign up for an upcoming Information Session to join our upcoming new advocate training. \nVolunteer – CASA of Yellowstone County | Serving kids in Foster Care | Court Appointed Special Advocates
URL:https://yellowstonecasa.org/event/new-advocate-training-pre-service-starts/
LOCATION:MT
END:VEVENT
END:VCALENDAR