BEGIN:VCALENDAR
VERSION:2.0
PRODID:-//CASA of Yellowstone County | Serving kids in Foster Care | Court Appointed Special Advocates - ECPv6.15.20//NONSGML v1.0//EN
CALSCALE:GREGORIAN
METHOD:PUBLISH
X-ORIGINAL-URL:https://yellowstonecasa.org
X-WR-CALDESC:Events for CASA of Yellowstone County | Serving kids in Foster Care | Court Appointed Special Advocates
REFRESH-INTERVAL;VALUE=DURATION:PT1H
X-Robots-Tag:noindex
X-PUBLISHED-TTL:PT1H
BEGIN:VTIMEZONE
TZID:America/Denver
BEGIN:DAYLIGHT
TZOFFSETFROM:-0700
TZOFFSETTO:-0600
TZNAME:MDT
DTSTART:20250309T090000
END:DAYLIGHT
BEGIN:STANDARD
TZOFFSETFROM:-0600
TZOFFSETTO:-0700
TZNAME:MST
DTSTART:20251102T080000
END:STANDARD
BEGIN:DAYLIGHT
TZOFFSETFROM:-0700
TZOFFSETTO:-0600
TZNAME:MDT
DTSTART:20260308T090000
END:DAYLIGHT
BEGIN:STANDARD
TZOFFSETFROM:-0600
TZOFFSETTO:-0700
TZNAME:MST
DTSTART:20261101T080000
END:STANDARD
BEGIN:DAYLIGHT
TZOFFSETFROM:-0700
TZOFFSETTO:-0600
TZNAME:MDT
DTSTART:20270314T090000
END:DAYLIGHT
BEGIN:STANDARD
TZOFFSETFROM:-0600
TZOFFSETTO:-0700
TZNAME:MST
DTSTART:20271107T080000
END:STANDARD
END:VTIMEZONE
BEGIN:VEVENT
DTSTART;TZID=America/Denver:20260421T120000
DTEND;TZID=America/Denver:20260421T130000
DTSTAMP:20260421T102743
CREATED:20260211T171620Z
LAST-MODIFIED:20260216T141122Z
UID:801845-1776772800-1776776400@yellowstonecasa.org
SUMMARY:Saint Johns Family Services Training (Advocates)
DESCRIPTION:Join us for an informative and engaging training highlighting the wide range of Family Services offered by St. John’s United\, presented by Jamie Rettig\, Director of Family Services. Jamie will introduce participants to C.A.R.E.S.\, a model emphasizing connection\, advocacy\, resources\, education\, and support for families as well as Wendy’s Wonderful Kids\, an evidence-based program focused on achieving permanency for children in foster care who are hardest to place. Jamie will share practical insight into how these services intersect with child welfare and CASA advocacy.\n\n\n\nPlease reach out to Sherri Carlson for more information on how to register for this training.
URL:https://yellowstonecasa.org/event/saint-johns-family-services-training-advocates/
LOCATION:Virtual
END:VEVENT
END:VCALENDAR